BEGIN:VCALENDAR
VERSION:2.0
METHOD:PUBLISH
PRODID:-//Agenda.ad//NONSGML v1.0//EN
BEGIN:VEVENT
CLASS:PUBLIC
UID:28cfb40dda4ec36e4fdbb72c091d7848@agenda.ad
DTSTAMP:20260422T044139Z
DTSTART:20190118T230000Z
DTEND:20190421T220000Z
SUMMARY:11es Jornades gastron&ograve;miques 'La Massana Fogons'
DESCRIPTION:Cuina d'hivern\n\nMés informació\nhttps://www.agenda.ad/ac
 tivitat/la-massana/mes-cultura/11es-jornades-gastronomiques-
 la-massana-fogons- \nOficina de Turisme de la Massana Pla&c
 cedil;a de les Fontetes, s/n Tel.: +376 835 693\n\nOrganitza
 \nComú de la Massana
LOCATION:Diversos escenaris de la Massana
SEQUENCE:0
TRANSP:OPAQUE
X-ALT-DESC;FMTTYPE=text/html:<!DOCTYPE HTML PUBLIC "-//W3C//DTD HTML 3.2//EN"><HTML><HEAD
 ><TITLE></TITLE></HEAD><BODY><FONT FACE="Arial" SIZE=2>Cuina
  d'hivern<br/><br/><b>Més informació</b><br/><a href="http
 s://www.agenda.ad/activitat/la-massana/mes-cultura/11es-jorn
 ades-gastronomiques-la-massana-fogons- ">https://www.agenda
 .ad/activitat/la-massana/mes-cultura/11es-jornades-gastronom
 iques-la-massana-fogons- </a><br/>Oficina de Turisme de la 
 Massana Pla&ccedil;a de les Fontetes, s/n Tel.: +376 835 693
 <br/><br/><b>Organitza</b><br/>Comú de la Massana</FONT></B
 ODY></HTML>
END:VEVENT
END:VCALENDAR